BEGIN:VCALENDAR
VERSION:2.0
PRODID:-//AZRC - ECPv5.6.0//NONSGML v1.0//EN
CALSCALE:GREGORIAN
METHOD:PUBLISH
X-WR-CALNAME:AZRC
X-ORIGINAL-URL:http://azrhythmconnection.com
X-WR-CALDESC:Events for AZRC
BEGIN:VTIMEZONE
TZID:America/Phoenix
BEGIN:STANDARD
TZOFFSETFROM:-0700
TZOFFSETTO:-0700
TZNAME:MST
DTSTART:20220101T000000
END:STANDARD
END:VTIMEZONE
BEGIN:VEVENT
DTSTART;TZID=America/Phoenix:20221102T181500
DTEND;TZID=America/Phoenix:20221102T193000
DTSTAMP:20260420T130904
CREATED:20221030T015431Z
LAST-MODIFIED:20221030T020116Z
UID:1233-1667412900-1667417400@azrhythmconnection.com
SUMMARY:West African Drumming for Beginners
DESCRIPTION:Arizona Musicfest’s beginner-friendly West African Drumming class is presented by Arizona Rhythm Connection. Join us for these fun\, community-building session as Frank Thompson guides you through learning techniques and styles on the Djembe an Djun. Explore traditional rhythms and develop your improvisational skills in a community-based environment. \nNo drum? No problem! Drums will be provided for each participant. \nThese classes are in the Community Room at Arizona Musicfest. Adults only.
URL:http://azrhythmconnection.com/calendars/west-african-drumming-for-beginners/
LOCATION:AZ Musicfest\, 7950 E. Thompson Parkway\, Scottsdale\, AZ\, United States
ATTACH;FMTTYPE=image/jpeg:http://azrhythmconnection.com/wp-content/uploads/2017/09/Photo-Sep-09-12-14-27-PM.jpg
ORGANIZER;CN="AZ%20Rhythm%20Connection":MAILTO:Info@azrhythmconnection.com
END:VEVENT
END:VCALENDAR