BEGIN:VCALENDAR
VERSION:2.0
PRODID:-//AZRC - ECPv5.6.0//NONSGML v1.0//EN
CALSCALE:GREGORIAN
METHOD:PUBLISH
X-WR-CALNAME:AZRC
X-ORIGINAL-URL:http://azrhythmconnection.com
X-WR-CALDESC:Events for AZRC
BEGIN:VTIMEZONE
TZID:America/Phoenix
BEGIN:STANDARD
TZOFFSETFROM:-0700
TZOFFSETTO:-0700
TZNAME:MST
DTSTART:20220101T000000
END:STANDARD
END:VTIMEZONE
BEGIN:VEVENT
DTSTART;TZID=America/Phoenix:20221207T181500
DTEND;TZID=America/Phoenix:20221207T191500
DTSTAMP:20260420T113039
CREATED:20221113T214324Z
LAST-MODIFIED:20221113T214324Z
UID:1269-1670436900-1670440500@azrhythmconnection.com
SUMMARY:West African Drumming for Beginners
DESCRIPTION:Arizona Musicfest’s beginner-friendly West African Drumming class is presented by Arizona Rhythm Connection. Join us for these fun\, community-building session as Frank Thompson guides you through learning techniques and styles on the Djembe an Djun. Explore traditional rhythms and develop your improvisational skills in a community-based environment. \nNo drum? No problem! Drums will be provided for each participant. \nThese classes are in the Community Room at Arizona Musicfest. Adults only. \nPlease RSVP at Arizona Musicfest
URL:http://azrhythmconnection.com/calendars/west-african-drumming-for-beginners-2/
LOCATION:Arizona Musicfest Community Room\, 7950 E Thompson Peak Pkwy\, Scottsdale\, AZ\, 85255\, United States
ATTACH;FMTTYPE=image/jpeg:http://azrhythmconnection.com/wp-content/uploads/2022/11/53DE2A9E-D100-4272-AEB3-625D04B25B76.jpeg
END:VEVENT
END:VCALENDAR