BEGIN:VCALENDAR
VERSION:2.0
PRODID:-//AZRC - ECPv5.6.0//NONSGML v1.0//EN
CALSCALE:GREGORIAN
METHOD:PUBLISH
X-WR-CALNAME:AZRC
X-ORIGINAL-URL:http://azrhythmconnection.com
X-WR-CALDESC:Events for AZRC
BEGIN:VTIMEZONE
TZID:America/Phoenix
BEGIN:STANDARD
TZOFFSETFROM:-0700
TZOFFSETTO:-0700
TZNAME:MST
DTSTART:20190101T000000
END:STANDARD
END:VTIMEZONE
BEGIN:VEVENT
DTSTART;TZID=America/Phoenix:20191211T140000
DTEND;TZID=America/Phoenix:20191211T150000
DTSTAMP:20260424T013525
CREATED:20191119T105216Z
LAST-MODIFIED:20191119T105216Z
UID:810-1576072800-1576076400@azrhythmconnection.com
SUMMARY:Fountain Hills Library Community Drum Circle
DESCRIPTION:A fun opportunity to build community and have fun drumming.   All drums provided or you can bring your own!
URL:http://azrhythmconnection.com/calendars/fountain-hills-library-community-drum-circle/
LOCATION:Fountain HIlls Library\, 12901 N. La Montana Drive\, Fountain Hills\, AZ\, 85268\, United States
END:VEVENT
END:VCALENDAR