BEGIN:VCALENDAR
VERSION:2.0
PRODID:-//AZRC - ECPv5.6.0//NONSGML v1.0//EN
CALSCALE:GREGORIAN
METHOD:PUBLISH
X-WR-CALNAME:AZRC
X-ORIGINAL-URL:http://azrhythmconnection.com
X-WR-CALDESC:Events for AZRC
BEGIN:VTIMEZONE
TZID:America/Phoenix
BEGIN:STANDARD
TZOFFSETFROM:-0700
TZOFFSETTO:-0700
TZNAME:MST
DTSTART:20200101T000000
END:STANDARD
END:VTIMEZONE
BEGIN:VEVENT
DTSTART;TZID=America/Phoenix:20200113T180000
DTEND;TZID=America/Phoenix:20200113T191500
DTSTAMP:20260423T040433
CREATED:20191220T001550Z
LAST-MODIFIED:20191220T025830Z
UID:876-1578938400-1578942900@azrhythmconnection.com
SUMMARY:Drumming From The Heart with Dr. Dave and Frank 6P -715P
DESCRIPTION:A drum circle of mindfulness and fun.  Led by Dr. David Engstrom and Frank Thompson. Hosted by the Cancer Support Community of Phoenix.
URL:http://azrhythmconnection.com/calendars/drumming-from-the-heart-with-dr-dave-and-frank-6p-715p-2/
LOCATION:Via Linda Sr. Center\, 10440 E. Via Linda\, Scottsdale\, 85258\, United States
ATTACH;FMTTYPE=image/jpeg:http://azrhythmconnection.com/wp-content/uploads/2017/09/Photo-Sep-09-8-18-56-PM-1.jpg
END:VEVENT
END:VCALENDAR