BEGIN:VCALENDAR
VERSION:2.0
PRODID:-//AZRC - ECPv5.6.0//NONSGML v1.0//EN
CALSCALE:GREGORIAN
METHOD:PUBLISH
X-WR-CALNAME:AZRC
X-ORIGINAL-URL:http://azrhythmconnection.com
X-WR-CALDESC:Events for AZRC
BEGIN:VTIMEZONE
TZID:America/Phoenix
BEGIN:STANDARD
TZOFFSETFROM:-0700
TZOFFSETTO:-0700
TZNAME:MST
DTSTART:20240101T000000
END:STANDARD
END:VTIMEZONE
BEGIN:VEVENT
DTSTART;TZID=America/Phoenix:20240118T150000
DTEND;TZID=America/Phoenix:20240118T160000
DTSTAMP:20260419T144333
CREATED:20240104T200942Z
LAST-MODIFIED:20240104T200942Z
UID:1438-1705590000-1705593600@azrhythmconnection.com
SUMMARY:Desert Foothills Library – HealthRHYTHMS Drum Circle – Sponsored by AARP
DESCRIPTION:DrumCircle – Healing Rhythms\nJoin us for a fun and interactive drum circle led by trained HealthRhythms facilitator\, Frank Thompson. Drum circles are a form of recreational music-making proven to reduce stress\, boost the immune system\, promote joy\, and a sense of well-being and to build community. All drums and percussion instruments provided. No musical experience required! If you have a heartbeat\, you can drum. Open to all adults\, all ages. \nRSVP at dfla.org | Questions\, please call 480-488-2286 
URL:http://azrhythmconnection.com/calendars/desert-foothills-library-healthrhythms-drum-circle-sponsored-by-aarp/
LOCATION:Desert Foothills Library\, 38443 North School House Road\, Cave Creek\, AZ\, United States
ATTACH;FMTTYPE=image/jpeg:http://azrhythmconnection.com/wp-content/uploads/2022/12/9D16AFE4-38EB-4AEF-B024-50385F8972C2-scaled.jpeg
END:VEVENT
END:VCALENDAR