BEGIN:VCALENDAR
VERSION:2.0
PRODID:-//AZRC - ECPv5.6.0//NONSGML v1.0//EN
CALSCALE:GREGORIAN
METHOD:PUBLISH
X-WR-CALNAME:AZRC
X-ORIGINAL-URL:http://azrhythmconnection.com
X-WR-CALDESC:Events for AZRC
BEGIN:VTIMEZONE
TZID:America/Phoenix
BEGIN:STANDARD
TZOFFSETFROM:-0700
TZOFFSETTO:-0700
TZNAME:MST
DTSTART:20220101T000000
END:STANDARD
END:VTIMEZONE
BEGIN:VEVENT
DTSTART;TZID=America/Phoenix:20221203T160000
DTEND;TZID=America/Phoenix:20221203T170000
DTSTAMP:20260420T113709
CREATED:20221113T210207Z
LAST-MODIFIED:20221113T212415Z
UID:1260-1670083200-1670086800@azrhythmconnection.com
SUMMARY:AZ Rhythm Connection Drum Circles at Tempe Festival of the Arts Fall 2022
DESCRIPTION:AZ Rhythm Connection will once again be facilitating Drum Circles at the Tempe Festival of the Arts. Come out and join use for a fun afternoon of Music and Art. Check out their website for further details.
URL:http://azrhythmconnection.com/calendars/az-rhythm-connection-at-tempe-festival-of-the-arts-fall-2022/
LOCATION:Mill Avenue in Tempe
ATTACH;FMTTYPE=image/jpeg:http://azrhythmconnection.com/wp-content/uploads/2022/11/5E56EA9A-4AB3-4BE8-A704-E373AB6985FC.jpeg
END:VEVENT
END:VCALENDAR