BEGIN:VCALENDAR
VERSION:2.0
PRODID:-//AZRC - ECPv5.6.0//NONSGML v1.0//EN
CALSCALE:GREGORIAN
METHOD:PUBLISH
X-WR-CALNAME:AZRC
X-ORIGINAL-URL:http://azrhythmconnection.com
X-WR-CALDESC:Events for AZRC
BEGIN:VTIMEZONE
TZID:America/Phoenix
BEGIN:STANDARD
TZOFFSETFROM:-0700
TZOFFSETTO:-0700
TZNAME:MST
DTSTART:20200101T000000
END:STANDARD
END:VTIMEZONE
BEGIN:VEVENT
DTSTART;VALUE=DATE:20200215
DTEND;VALUE=DATE:20200216
DTSTAMP:20260423T020534
CREATED:20200211T222444Z
LAST-MODIFIED:20200211T222444Z
UID:939-1581724800-1581811199@azrhythmconnection.com
SUMMARY:ASU Playfest - Private Event
DESCRIPTION:ASU Art Festival Multigenerational Event
URL:http://azrhythmconnection.com/calendars/asu-playfest-private-event/
END:VEVENT
END:VCALENDAR