BEGIN:VCALENDAR
VERSION:2.0
PRODID:-//AZRC - ECPv5.6.0//NONSGML v1.0//EN
CALSCALE:GREGORIAN
METHOD:PUBLISH
X-WR-CALNAME:AZRC
X-ORIGINAL-URL:http://azrhythmconnection.com
X-WR-CALDESC:Events for AZRC
BEGIN:VTIMEZONE
TZID:America/Phoenix
BEGIN:STANDARD
TZOFFSETFROM:-0700
TZOFFSETTO:-0700
TZNAME:MST
DTSTART:20200101T000000
END:STANDARD
END:VTIMEZONE
BEGIN:VEVENT
DTSTART;TZID=America/Phoenix:20200213T150000
DTEND;TZID=America/Phoenix:20200213T160000
DTSTAMP:20260423T021132
CREATED:20200122T235511Z
LAST-MODIFIED:20200212T214610Z
UID:934-1581606000-1581609600@azrhythmconnection.com
SUMMARY:AARP Scottsdale Community HealthRhythms Drum Circle at AZ Musicfest 3P-4P
DESCRIPTION:AARP and Arizona Musicfest sponsored HealthRHYTHMS Drumming at the Arizona Musicfest Community Room on the second Thursday of the month. Drums will be provided\, all you need to bring is enthusiasm. \nWe hope to see you there. \nSe Habla Español
URL:http://azrhythmconnection.com/calendars/aarp-scottsdale-community-healthrhythms-drum-circle-at-az-musicfest-3p-4p/
LOCATION:Arizona Musicfest Community Room\, 7950 E Thompson Peak Pkwy\, Scottsdale\, AZ\, 85255\, United States
ATTACH;FMTTYPE=image/png:http://azrhythmconnection.com/wp-content/uploads/2019/10/aarp-logo.png
END:VEVENT
END:VCALENDAR