BEGIN:VCALENDAR
VERSION:2.0
PRODID:-//AZRC - ECPv5.6.0//NONSGML v1.0//EN
CALSCALE:GREGORIAN
METHOD:PUBLISH
X-WR-CALNAME:AZRC
X-ORIGINAL-URL:http://azrhythmconnection.com
X-WR-CALDESC:Events for AZRC
BEGIN:VTIMEZONE
TZID:UTC
BEGIN:STANDARD
TZOFFSETFROM:+0000
TZOFFSETTO:+0000
TZNAME:UTC
DTSTART:20190101T000000
END:STANDARD
END:VTIMEZONE
BEGIN:VEVENT
DTSTART;TZID=UTC:20191119T164500
DTEND;TZID=UTC:20191119T174500
DTSTAMP:20260425T075057
CREATED:20191009T064212Z
LAST-MODIFIED:20191119T110227Z
UID:745-1574181900-1574185500@azrhythmconnection.com
SUMMARY:AARP Health Rhythms Community Drum Circle 445P - 545P
DESCRIPTION:A fun community drum circle facilitated by Frank Thompson. Bring your joy\, fun and meet some others as you share rhythms\, stories and build community.
URL:http://azrhythmconnection.com/calendars/aarp-health-rhythms-community-drum-circle-445p-545p/
LOCATION:Desert Foothills Library\, 38443 North School House Road\, Cave Creek\, AZ\, United States
ATTACH;FMTTYPE=image/png:http://azrhythmconnection.com/wp-content/uploads/2019/10/aarp-logo.png
END:VEVENT
END:VCALENDAR