BEGIN:VCALENDAR
VERSION:2.0
PRODID:-//AZRC - ECPv5.6.0//NONSGML v1.0//EN
CALSCALE:GREGORIAN
METHOD:PUBLISH
X-WR-CALNAME:AZRC
X-ORIGINAL-URL:http://azrhythmconnection.com
X-WR-CALDESC:Events for AZRC
BEGIN:VTIMEZONE
TZID:America/Phoenix
BEGIN:STANDARD
TZOFFSETFROM:-0700
TZOFFSETTO:-0700
TZNAME:MST
DTSTART:20200101T000000
END:STANDARD
END:VTIMEZONE
BEGIN:VEVENT
DTSTART;TZID=America/Phoenix:20200128T123000
DTEND;TZID=America/Phoenix:20200128T133000
DTSTAMP:20260423T020903
CREATED:20200110T132518Z
LAST-MODIFIED:20200122T181500Z
UID:905-1580214600-1580218200@azrhythmconnection.com
SUMMARY:AARP Deer Valley Community Health Rhythms Drum Circle: 12:30P - 1:30P
DESCRIPTION:The Fourth Tuesday of the month.  Introducing a “NEW Location” for this fun community drum circle facilitated by Frank Thompson. Bring your joy\, fun and meet others as you share rhythms\, stories\, and build community. Extra drums are always available. \n 
URL:http://azrhythmconnection.com/calendars/aarp-community-health-rhythms-drum-circle-1230p-130p/
LOCATION:Deer Valley Senior Center\, 2001 W Wahalla Lane\, Phoenix\, AZ\, United States
ATTACH;FMTTYPE=image/jpeg:http://azrhythmconnection.com/wp-content/uploads/2017/09/11.jpg
END:VEVENT
END:VCALENDAR