BEGIN:VCALENDAR
VERSION:2.0
PRODID:-//AZRC - ECPv5.6.0//NONSGML v1.0//EN
CALSCALE:GREGORIAN
METHOD:PUBLISH
X-WR-CALNAME:AZRC
X-ORIGINAL-URL:http://azrhythmconnection.com
X-WR-CALDESC:Events for AZRC
BEGIN:VTIMEZONE
TZID:America/Phoenix
BEGIN:STANDARD
TZOFFSETFROM:-0700
TZOFFSETTO:-0700
TZNAME:MST
DTSTART:20240101T000000
END:STANDARD
END:VTIMEZONE
BEGIN:VEVENT
DTSTART;TZID=America/Phoenix:20240130T183000
DTEND;TZID=America/Phoenix:20240130T193000
DTSTAMP:20260419T113244
CREATED:20240104T171802Z
LAST-MODIFIED:20240104T171802Z
UID:1432-1706639400-1706643000@azrhythmconnection.com
SUMMARY:AARP Community Drum Circle for Wellness & Fun
DESCRIPTION:Frank Thompson\, lead facilitator of AZ Rhythm Connection\, will deliver a 1-hour drum circle session. These sessions provide a fun social activity to lighten stress and laugh. If you have a drum or percussion instrument\, bring it.  If not Frank will have one for everyone.  The only experience you need is fun! \nWe hope you all can join us once again for this fun interactive music experience.
URL:http://azrhythmconnection.com/calendars/aarp-community-drum-circle-for-wellness-fun-9/
LOCATION:Beatitudes Church\, 555 W. Glendale Ave\, Phoenix\, 85021\, United States
END:VEVENT
END:VCALENDAR