BEGIN:VCALENDAR
VERSION:2.0
PRODID:-//AZRC - ECPv5.6.0//NONSGML v1.0//EN
CALSCALE:GREGORIAN
METHOD:PUBLISH
X-WR-CALNAME:AZRC
X-ORIGINAL-URL:http://azrhythmconnection.com
X-WR-CALDESC:Events for AZRC
BEGIN:VTIMEZONE
TZID:America/Phoenix
BEGIN:STANDARD
TZOFFSETFROM:-0700
TZOFFSETTO:-0700
TZNAME:MST
DTSTART:20230101T000000
END:STANDARD
END:VTIMEZONE
BEGIN:VEVENT
DTSTART;TZID=America/Phoenix:20230328T183000
DTEND;TZID=America/Phoenix:20230328T193000
DTSTAMP:20260420T043839
CREATED:20230201T230127Z
LAST-MODIFIED:20230201T230127Z
UID:1316-1680028200-1680031800@azrhythmconnection.com
SUMMARY:AARP Community Drum Circle for Wellness & Fun
DESCRIPTION:Frank Thompson\, lead facilitator of AZ Rhythm Connection\, will deliver a 1-hour monthly drum circle session. These sessions provide a fun social activity to lighten stress and laugh. If you have a drum or percussion instrument\, bring it.  If not Frank will have one for everyone.  The only experience you need is fun! \n\nSessions will be held in Nelson Hall on the last Tuesday of the month. \nWe hope you all can join us once again for these monthly fun interactive music experiences. \n\nPre-registration is requested at the link located below.
URL:http://azrhythmconnection.com/calendars/aarp-community-drum-circle-for-wellness-fun-2/
LOCATION:Beatitudes Church\, 555 W. Glendale Ave\, Phoenix\, 85021\, United States
ATTACH;FMTTYPE=image/jpeg:http://azrhythmconnection.com/wp-content/uploads/2022/12/FB0BBC04-ED1B-451E-B26A-F3C8F8AAE4D9-scaled.jpeg
END:VEVENT
END:VCALENDAR