BEGIN:VCALENDAR
VERSION:2.0
PRODID:-//AZRC - ECPv5.6.0//NONSGML v1.0//EN
CALSCALE:GREGORIAN
METHOD:PUBLISH
X-WR-CALNAME:AZRC
X-ORIGINAL-URL:http://azrhythmconnection.com
X-WR-CALDESC:Events for AZRC
BEGIN:VTIMEZONE
TZID:America/Phoenix
BEGIN:STANDARD
TZOFFSETFROM:-0700
TZOFFSETTO:-0700
TZNAME:MST
DTSTART:20200101T000000
END:STANDARD
END:VTIMEZONE
BEGIN:VEVENT
DTSTART;TZID=America/Phoenix:20200331T180000
DTEND;TZID=America/Phoenix:20200331T191500
DTSTAMP:20260424T021033
CREATED:20200227T042838Z
LAST-MODIFIED:20200323T163956Z
UID:1057-1585677600-1585682100@azrhythmconnection.com
SUMMARY:Canceled AARP Central Phoenix Community HealthRhythms Drum Circle 6P-715P
DESCRIPTION:AARP has canceled all programs for the month of March. A monthly community Health Rhythms drum circle facilitated by Frank Thompson in association with AARP of Arizona.  Held the last Tuesday of the month.  Bring your joy\, fun and meet some others as you share rhythms\, stories and build community. Extra drums will be available\, all you need to bring is your enthusiasm.  \nSe Habla Español.
URL:http://azrhythmconnection.com/calendars/aarp-central-phoenix-community-healthrhythms-drum-circle-6p-715p/
LOCATION:Beatitudes Church\, 555 W. Glendale Ave\, Phoenix\, 85021\, United States
ATTACH;FMTTYPE=image/png:http://azrhythmconnection.com/wp-content/uploads/2020/02/FF1D630F-8EFD-40B5-8C3E-13128540AB0E.png
END:VEVENT
END:VCALENDAR