BEGIN:VCALENDAR
VERSION:2.0
PRODID:-//AZRC - ECPv5.6.0//NONSGML v1.0//EN
CALSCALE:GREGORIAN
METHOD:PUBLISH
X-WR-CALNAME:AZRC
X-ORIGINAL-URL:http://azrhythmconnection.com
X-WR-CALDESC:Events for AZRC
BEGIN:VTIMEZONE
TZID:America/Phoenix
BEGIN:STANDARD
TZOFFSETFROM:-0700
TZOFFSETTO:-0700
TZNAME:MST
DTSTART:20200101T000000
END:STANDARD
END:VTIMEZONE
BEGIN:VEVENT
DTSTART;TZID=America/Phoenix:20200225T180000
DTEND;TZID=America/Phoenix:20200225T191500
DTSTAMP:20260423T020819
CREATED:20200212T222637Z
LAST-MODIFIED:20200212T222637Z
UID:958-1582653600-1582658100@azrhythmconnection.com
SUMMARY:AARP Central Phoenix Community Health Rhythms Drum Circle 6P - 7:15P
DESCRIPTION:The last Tuesday of every month.  Don’ miss it!  A fun community drum circle facilitated by Frank Thompson.  Bring your joy\, fun and meet some others as you share rhythms\, stories and build community. Extra drums will be available\, all you need to bring is your enthusiasm. \n  \nSe Habla Español.
URL:http://azrhythmconnection.com/calendars/aarp-central-phoenix-community-health-rhythms-drum-circle-6p-715p-4/
LOCATION:Beatitudes Church\, 555 W. Glendale Ave\, Phoenix\, 85021\, United States
ATTACH;FMTTYPE=image/png:http://azrhythmconnection.com/wp-content/uploads/2020/02/FF1D630F-8EFD-40B5-8C3E-13128540AB0E.png
END:VEVENT
END:VCALENDAR