BEGIN:VCALENDAR
VERSION:2.0
PRODID:-//AZRC - ECPv5.6.0//NONSGML v1.0//EN
CALSCALE:GREGORIAN
METHOD:PUBLISH
X-WR-CALNAME:AZRC
X-ORIGINAL-URL:http://azrhythmconnection.com
X-WR-CALDESC:Events for AZRC
BEGIN:VTIMEZONE
TZID:America/Phoenix
BEGIN:STANDARD
TZOFFSETFROM:-0700
TZOFFSETTO:-0700
TZNAME:MST
DTSTART:20230101T000000
END:STANDARD
END:VTIMEZONE
BEGIN:VEVENT
DTSTART;TZID=America/Phoenix:20231130T160000
DTEND;TZID=America/Phoenix:20231130T170000
DTSTAMP:20260419T143330
CREATED:20230830T182831Z
LAST-MODIFIED:20230830T182831Z
UID:1399-1701360000-1701363600@azrhythmconnection.com
SUMMARY:AZ Musicfest HealthRHYTHMS Group Drumming
DESCRIPTION:HealthRhythms Group Drumming Sessions are drum circles that meet monthly on the fourth Thursday of the month in the Arizona Musicfest Community Room. Participants choose from a wide array of percussion instruments\, and are invited to join facilitator Frank Thompson in improvising rhythms during the hour-long session. No experience required\, rather sessions use the drums as a fun gateway activity to build community using recreational music making – simply put\, making-music for joy\, community and to let go of some stress. It’s for everyone\, because anyone can drum! \nDrums are provided\, all you need to bring is enthusiasm!
URL:http://azrhythmconnection.com/calendars/az-musicfest-healthrhythms-group-drumming-3/
LOCATION:Arizona Musicfest Community Room\, 7950 E Thompson Peak Pkwy\, Scottsdale\, AZ\, 85255\, United States
ATTACH;FMTTYPE=image/jpeg:http://azrhythmconnection.com/wp-content/uploads/2022/11/53DE2A9E-D100-4272-AEB3-625D04B25B76.jpeg
END:VEVENT
END:VCALENDAR