BEGIN:VCALENDAR
VERSION:2.0
PRODID:-//AZRC - ECPv5.6.0//NONSGML v1.0//EN
CALSCALE:GREGORIAN
METHOD:PUBLISH
X-WR-CALNAME:AZRC
X-ORIGINAL-URL:http://azrhythmconnection.com
X-WR-CALDESC:Events for AZRC
BEGIN:VTIMEZONE
TZID:America/Phoenix
BEGIN:STANDARD
TZOFFSETFROM:-0700
TZOFFSETTO:-0700
TZNAME:MST
DTSTART:20230101T000000
END:STANDARD
END:VTIMEZONE
BEGIN:VEVENT
DTSTART;TZID=America/Phoenix:20231128T183000
DTEND;TZID=America/Phoenix:20231128T193000
DTSTAMP:20260419T144101
CREATED:20230830T185538Z
LAST-MODIFIED:20230830T193603Z
UID:1407-1701196200-1701199800@azrhythmconnection.com
SUMMARY:AARP Community Drum Circle for Wellness & Fun
DESCRIPTION:Frank Thompson\, lead facilitator of AZ Rhythm Connection\, will deliver a 1-hour monthly drum circle session. These sessions provide a fun social activity to lighten stress and laugh. If you have a drum or percussion instrument\, bring it.  If not Frank will have one for everyone.  The only experience you need is fun! \nSessions will be held in the Church Sanctuary on the last Tuesday of the month. \nWe hope you all can join us monthly for these fun interactive music experiences.
URL:http://azrhythmconnection.com/calendars/aarp-community-drum-circle-for-wellness-fun-7/
LOCATION:Beatitudes Church\, 555 W. Glendale Ave\, Phoenix\, 85021\, United States
ATTACH;FMTTYPE=image/png:http://azrhythmconnection.com/wp-content/uploads/2020/02/FF1D630F-8EFD-40B5-8C3E-13128540AB0E.png
END:VEVENT
END:VCALENDAR