BEGIN:VCALENDAR
VERSION:2.0
PRODID:-//AZRC - ECPv5.6.0//NONSGML v1.0//EN
CALSCALE:GREGORIAN
METHOD:PUBLISH
X-WR-CALNAME:AZRC
X-ORIGINAL-URL:http://azrhythmconnection.com
X-WR-CALDESC:Events for AZRC
BEGIN:VTIMEZONE
TZID:America/Phoenix
BEGIN:STANDARD
TZOFFSETFROM:-0700
TZOFFSETTO:-0700
TZNAME:MST
DTSTART:20230101T000000
END:STANDARD
END:VTIMEZONE
BEGIN:VEVENT
DTSTART;TZID=America/Phoenix:20230903T140000
DTEND;TZID=America/Phoenix:20230903T160000
DTSTAMP:20260419T194238
CREATED:20230830T194335Z
LAST-MODIFIED:20230830T194335Z
UID:1411-1693749600-1693756800@azrhythmconnection.com
SUMMARY:Downtown Chandler Library Community Drum Circle
DESCRIPTION:A monthly family friendly intergenerational community drum circle. Drumming gives us an experience where we can be free to connect with ourselves and others\, in order to release\, restore and heal. It is a universal language where all people can be a part\, free from words and concepts so we can experience… \nFacilitated by Frank Thompson of the AZ Rhythm Connection. \nOrganized by Bart Salzman
URL:http://azrhythmconnection.com/calendars/downtown-chandler-library-community-drum-circle-2/
LOCATION:Downtown Chandler Library\, 22 South Delaware St\, Chandler\, AZ\, 85225\, United States
ATTACH;FMTTYPE=image/jpeg:http://azrhythmconnection.com/wp-content/uploads/2020/02/IMG_0880-1-scaled.jpeg
END:VEVENT
END:VCALENDAR