BEGIN:VCALENDAR
VERSION:2.0
PRODID:-//AZRC - ECPv5.6.0//NONSGML v1.0//EN
CALSCALE:GREGORIAN
METHOD:PUBLISH
X-WR-CALNAME:AZRC
X-ORIGINAL-URL:http://azrhythmconnection.com
X-WR-CALDESC:Events for AZRC
BEGIN:VTIMEZONE
TZID:America/Phoenix
BEGIN:STANDARD
TZOFFSETFROM:-0700
TZOFFSETTO:-0700
TZNAME:MST
DTSTART:20230101T000000
END:STANDARD
END:VTIMEZONE
BEGIN:VEVENT
DTSTART;TZID=America/Phoenix:20230402T160000
DTEND;TZID=America/Phoenix:20230402T170000
DTSTAMP:20260420T041948
CREATED:20230304T215246Z
LAST-MODIFIED:20230304T215246Z
UID:1343-1680451200-1680454800@azrhythmconnection.com
SUMMARY:Tempe Festival of the Arts
DESCRIPTION:Come join us at the Spring 2023 Tempe Festival of the Arts.  AZ Rhythm Connection will be hosting Interactive Music & Drum Sessions on Saturday and Sunday.  You can find us at the Acoustic Space on 6th St. & Maple beginning at 4:00pm. \nWe hope you can join us.
URL:http://azrhythmconnection.com/calendars/tempe-festival-of-the-arts-2/
LOCATION:Tempe Mill Avenue
ATTACH;FMTTYPE=image/jpeg:http://azrhythmconnection.com/wp-content/uploads/2022/11/5E56EA9A-4AB3-4BE8-A704-E373AB6985FC.jpeg
END:VEVENT
END:VCALENDAR