BEGIN:VCALENDAR
VERSION:2.0
PRODID:-//AZRC - ECPv5.6.0//NONSGML v1.0//EN
CALSCALE:GREGORIAN
METHOD:PUBLISH
X-WR-CALNAME:AZRC
X-ORIGINAL-URL:http://azrhythmconnection.com
X-WR-CALDESC:Events for AZRC
BEGIN:VTIMEZONE
TZID:America/Phoenix
BEGIN:STANDARD
TZOFFSETFROM:-0700
TZOFFSETTO:-0700
TZNAME:MST
DTSTART:20230101T000000
END:STANDARD
END:VTIMEZONE
BEGIN:VEVENT
DTSTART;TZID=America/Phoenix:20230401T160000
DTEND;TZID=America/Phoenix:20230401T170000
DTSTAMP:20260420T041856
CREATED:20230304T214810Z
LAST-MODIFIED:20230304T214810Z
UID:1341-1680364800-1680368400@azrhythmconnection.com
SUMMARY:Tempe Festival of the Arts
DESCRIPTION:Come join us at the Spring 2023 Tempe Festival of the Arts.  AZ Rhythm Connection will be hosting Interactive Music & Drum Sessions on Saturday and Sunday.  You can find us at the Acoustic Space on 6th St. & Maple beginning at 4:00pm. \nWe hope to see you there.
URL:http://azrhythmconnection.com/calendars/tempe-festival-of-the-arts/
LOCATION:Mill Avenue in Tempe
ATTACH;FMTTYPE=image/jpeg:http://azrhythmconnection.com/wp-content/uploads/2019/11/75A465C4-971A-4B3F-88DA-5FBC8194BDA3.jpeg
END:VEVENT
END:VCALENDAR