BEGIN:VCALENDAR
VERSION:2.0
PRODID:-//AZRC - ECPv5.6.0//NONSGML v1.0//EN
CALSCALE:GREGORIAN
METHOD:PUBLISH
X-WR-CALNAME:AZRC
X-ORIGINAL-URL:http://azrhythmconnection.com
X-WR-CALDESC:Events for AZRC
BEGIN:VTIMEZONE
TZID:America/Phoenix
BEGIN:STANDARD
TZOFFSETFROM:-0700
TZOFFSETTO:-0700
TZNAME:MST
DTSTART:20230101T000000
END:STANDARD
END:VTIMEZONE
BEGIN:VEVENT
DTSTART;TZID=America/Phoenix:20230131T183000
DTEND;TZID=America/Phoenix:20230131T193000
DTSTAMP:20260420T075931
CREATED:20230109T202251Z
LAST-MODIFIED:20230109T202251Z
UID:1293-1675189800-1675193400@azrhythmconnection.com
SUMMARY:AARP HealthRHYTHMS Interactive Drumming at Church of the Beatitudes
DESCRIPTION:AARP & Frank Thompson of AZ Rhythm Connection are back with in-person HealthRHYTHMS Drumming at Church of the Beatitudes beginning this month. Sessions will be held in Nelson Hall beginning January 31st. We hope you all can join us once again for these monthly fun interactive music experiences. \nGoing forward the sessions will be held on the last Tuesday of the month. \nPlease register at the link below.
URL:http://azrhythmconnection.com/calendars/aarp-healthrhythms-interactive-drumming-at-church-of-the-beatitudes/
LOCATION:Beatitudes Church\, 555 W. Glendale Ave\, Phoenix\, 85021\, United States
ATTACH;FMTTYPE=image/jpeg:http://azrhythmconnection.com/wp-content/uploads/2020/02/IMG_0951-scaled.jpeg
END:VEVENT
END:VCALENDAR