BEGIN:VCALENDAR
VERSION:2.0
PRODID:-//AZRC - ECPv5.6.0//NONSGML v1.0//EN
CALSCALE:GREGORIAN
METHOD:PUBLISH
X-WR-CALNAME:AZRC
X-ORIGINAL-URL:http://azrhythmconnection.com
X-WR-CALDESC:Events for AZRC
BEGIN:VTIMEZONE
TZID:America/Phoenix
BEGIN:STANDARD
TZOFFSETFROM:-0700
TZOFFSETTO:-0700
TZNAME:MST
DTSTART:20230101T000000
END:STANDARD
END:VTIMEZONE
BEGIN:VEVENT
DTSTART;TZID=America/Phoenix:20230128T130000
DTEND;TZID=America/Phoenix:20230128T140000
DTSTAMP:20260420T093447
CREATED:20230109T204424Z
LAST-MODIFIED:20230109T204424Z
UID:1300-1674910800-1674914400@azrhythmconnection.com
SUMMARY:City Of Goodyear HealthRHYTHMS Interactive Drumming
DESCRIPTION:City of Goodyear and Frank Thompson of AZ Rhythm Connection will hold a fun HealthRHYTHMS Interactive Drum Event on Saturday January 28th\,  at the Georgia T. Lord Library Community Room. \nPre-registration and Fee required. \nRegister at the link provided.
URL:http://azrhythmconnection.com/calendars/city-of-goodyear-healthrhythms-interactive-drumming/
LOCATION:Georgia T. Lord Library\, 1900 Civic Square\, Goodyear\, 85395\, United States
ATTACH;FMTTYPE=image/jpeg:http://azrhythmconnection.com/wp-content/uploads/2020/02/IMG_0881-1-scaled.jpeg
END:VEVENT
END:VCALENDAR