BEGIN:VCALENDAR
VERSION:2.0
PRODID:-//AZRC - ECPv5.6.0//NONSGML v1.0//EN
CALSCALE:GREGORIAN
METHOD:PUBLISH
X-WR-CALNAME:AZRC
X-ORIGINAL-URL:http://azrhythmconnection.com
X-WR-CALDESC:Events for AZRC
BEGIN:VTIMEZONE
TZID:America/Phoenix
BEGIN:STANDARD
TZOFFSETFROM:-0700
TZOFFSETTO:-0700
TZNAME:MST
DTSTART:20220101T000000
END:STANDARD
END:VTIMEZONE
BEGIN:VEVENT
DTSTART;TZID=America/Phoenix:20221110T160000
DTEND;TZID=America/Phoenix:20221110T170000
DTSTAMP:20260420T125953
CREATED:20221108T232142Z
LAST-MODIFIED:20221108T232714Z
UID:1255-1668096000-1668099600@azrhythmconnection.com
SUMMARY:Health Rhythms Group Drumming
DESCRIPTION:  \n*Due to Thanksgiving holiday\, this monthly (thursday) session has been moved to Nov. 10th. \nHealthRhythms Group Drumming Sessions are drum circles that meet monthly on Thursdays in the Arizona Musicfest Community Room. Participants choose from a wide array of percussion instruments\, and are invited to join facilitator Frank Thompson in improvising rhythms during the hour-long session. No experience required\, rather sessions use the drums as a fun gateway activity to build community using recreational music making – simply put\, making-music for joy\, community and to let go of some stress. It’s for everyone\, because anyone can drum! \nDrums are provided\, all you need to bring is enthusiasm \n  \n 
URL:http://azrhythmconnection.com/calendars/health-rhythms-group-drumming/
LOCATION:Arizona Musicfest Community Room\, 7950 E Thompson Peak Pkwy\, Scottsdale\, AZ\, 85255\, United States
ATTACH;FMTTYPE=image/gif:http://azrhythmconnection.com/wp-content/uploads/2017/09/7885514_orig.gif
END:VEVENT
END:VCALENDAR