BEGIN:VCALENDAR
VERSION:2.0
PRODID:-//AZRC - ECPv5.6.0//NONSGML v1.0//EN
CALSCALE:GREGORIAN
METHOD:PUBLISH
X-WR-CALNAME:AZRC
X-ORIGINAL-URL:http://azrhythmconnection.com
X-WR-CALDESC:Events for AZRC
BEGIN:VTIMEZONE
TZID:America/Phoenix
BEGIN:STANDARD
TZOFFSETFROM:-0700
TZOFFSETTO:-0700
TZNAME:MST
DTSTART:20220101T000000
END:STANDARD
END:VTIMEZONE
BEGIN:VEVENT
DTSTART;TZID=America/Phoenix:20221109T181500
DTEND;TZID=America/Phoenix:20221109T193000
DTSTAMP:20260420T130407
CREATED:20221030T084559Z
LAST-MODIFIED:20221108T231249Z
UID:1250-1668017700-1668022200@azrhythmconnection.com
SUMMARY:CSC Drumming from the Heart--Health Rhythms
DESCRIPTION:Health Rhythms-based sessions with Dr. David Engstrom\, Ph. D\, APBB and Teaching Artist\, Frank Thompson. Hand drums\, percussion\, relaxation and guided imagery are used to create a stress mitigating hour of community music-making joy. Dr. Engstrom and Frank\, focus on the healing benefits of being present and in-the-moment. Their interplay and facilitation provide a platform to let participants have a respite of wellness every time. Give yourself the present of being present and join them!
URL:http://azrhythmconnection.com/calendars/csc-drumming-from-the-heart-health-rhythms/
LOCATION:St. Patrick Catholic Community\, 10815 N. 84th St.\, Scottsdale\, AZ\, United States
ATTACH;FMTTYPE=image/jpeg:http://azrhythmconnection.com/wp-content/uploads/2017/09/1406154431.jpg
END:VEVENT
END:VCALENDAR