BEGIN:VCALENDAR
VERSION:2.0
PRODID:-//AZRC - ECPv5.6.0//NONSGML v1.0//EN
CALSCALE:GREGORIAN
METHOD:PUBLISH
X-WR-CALNAME:AZRC
X-ORIGINAL-URL:http://azrhythmconnection.com
X-WR-CALDESC:Events for AZRC
BEGIN:VTIMEZONE
TZID:America/Phoenix
BEGIN:STANDARD
TZOFFSETFROM:-0700
TZOFFSETTO:-0700
TZNAME:MST
DTSTART:20220101T000000
END:STANDARD
END:VTIMEZONE
BEGIN:VEVENT
DTSTART;TZID=America/Phoenix:20220527T180000
DTEND;TZID=America/Phoenix:20220527T200000
DTSTAMP:20260421T003109
CREATED:20220417T015407Z
LAST-MODIFIED:20220417T015407Z
UID:1228-1653674400-1653681600@azrhythmconnection.com
SUMMARY:Friday Night Free Community Drum Class
DESCRIPTION:This class is offered free to the community.  We have extra drums. Join us.   We are fun focused.
URL:http://azrhythmconnection.com/calendars/friday-night-free-community-drum-class-4/
ATTACH;FMTTYPE=image/jpeg:http://azrhythmconnection.com/wp-content/uploads/2017/09/Photo-Sep-09-12-14-27-PM.jpg
END:VEVENT
END:VCALENDAR