BEGIN:VCALENDAR
VERSION:2.0
PRODID:-//AZRC - ECPv5.6.0//NONSGML v1.0//EN
CALSCALE:GREGORIAN
METHOD:PUBLISH
X-WR-CALNAME:AZRC
X-ORIGINAL-URL:http://azrhythmconnection.com
X-WR-CALDESC:Events for AZRC
BEGIN:VTIMEZONE
TZID:America/Phoenix
BEGIN:STANDARD
TZOFFSETFROM:-0700
TZOFFSETTO:-0700
TZNAME:MST
DTSTART:20220101T000000
END:STANDARD
END:VTIMEZONE
BEGIN:VEVENT
DTSTART;TZID=America/Phoenix:20220525T100000
DTEND;TZID=America/Phoenix:20220525T110000
DTSTAMP:20260423T020436
CREATED:20220417T013643Z
LAST-MODIFIED:20220417T013643Z
UID:1222-1653472800-1653476400@azrhythmconnection.com
SUMMARY:AZ Rhythm Connection Virtual Drum\, Music & Voice Jam (No jelly) Session: Found Sound Rhythm Hour. Featuring Frank Thompson
DESCRIPTION:Found Sound Rhythm and Trivia Hour.  Featuring Frank Thompson.  Grab some “Found Sounds” from around the house and join the jam session.   Wood spoons\, coffee cans\, chop sticks\, boxes of Mac-n-cheese or whatever.  Bring ‘em to the party as we make music\, move and laugh together to with awesome drumbeats and music trivia.
URL:http://azrhythmconnection.com/calendars/az-rhythm-connection-virtual-drum-music-voice-jam-no-jelly-session-found-sound-rhythm-hour-featuring-frank-thompson/
ATTACH;FMTTYPE=image/png:http://azrhythmconnection.com/wp-content/uploads/2020/02/FF1D630F-8EFD-40B5-8C3E-13128540AB0E.png
END:VEVENT
END:VCALENDAR