BEGIN:VCALENDAR
VERSION:2.0
PRODID:-//AZRC - ECPv5.6.0//NONSGML v1.0//EN
CALSCALE:GREGORIAN
METHOD:PUBLISH
X-WR-CALNAME:AZRC
X-ORIGINAL-URL:http://azrhythmconnection.com
X-WR-CALDESC:Events for AZRC
BEGIN:VTIMEZONE
TZID:America/Phoenix
BEGIN:STANDARD
TZOFFSETFROM:-0700
TZOFFSETTO:-0700
TZNAME:MST
DTSTART:20200101T000000
END:STANDARD
END:VTIMEZONE
BEGIN:VEVENT
DTSTART;TZID=America/Phoenix:20200328T160000
DTEND;TZID=America/Phoenix:20200328T170000
DTSTAMP:20260423T001343
CREATED:20200214T231100Z
LAST-MODIFIED:20200317T201129Z
UID:832-1585411200-1585414800@azrhythmconnection.com
SUMMARY:Canceled -Tempe Festival of the Arts AZ Rhythm Connection Drum Circle 4P - 5P
DESCRIPTION:This event has been canceled – Come on out to the Tempe Festival of the Arts and join Frank Thompson at the Third Street Acoustic Stage. Frank will be rocking it out with a Community Drum Circle beginning at 4:00p  No drum?  No problem.  We will have extras! \nWe hope to see you there! \n 
URL:http://azrhythmconnection.com/calendars/tempe-festival-of-the-arts-az-rhythm-connection-drum-circle-4p-5p/
LOCATION:Tempe\, Downtown Tempe\, Tempe\, AZ
ATTACH;FMTTYPE=image/jpeg:http://azrhythmconnection.com/wp-content/uploads/2019/11/75A465C4-971A-4B3F-88DA-5FBC8194BDA3.jpeg
END:VEVENT
END:VCALENDAR