BEGIN:VCALENDAR
VERSION:2.0
PRODID:-//AZRC - ECPv5.6.0//NONSGML v1.0//EN
CALSCALE:GREGORIAN
METHOD:PUBLISH
X-WR-CALNAME:AZRC
X-ORIGINAL-URL:http://azrhythmconnection.com
X-WR-CALDESC:Events for AZRC
BEGIN:VTIMEZONE
TZID:America/Phoenix
BEGIN:STANDARD
TZOFFSETFROM:-0700
TZOFFSETTO:-0700
TZNAME:MST
DTSTART:20200101T000000
END:STANDARD
END:VTIMEZONE
BEGIN:VEVENT
DTSTART;TZID=America/Phoenix:20200313T133000
DTEND;TZID=America/Phoenix:20200313T143000
DTSTAMP:20260423T001035
CREATED:20200228T235035Z
LAST-MODIFIED:20200313T181808Z
UID:1090-1584106200-1584109800@azrhythmconnection.com
SUMMARY:Cancelled - AARP Scottsdale Public Library Memory Cafe Drum Circle 130P-230P
DESCRIPTION:Cancelled: please check back later for a new date. \nAs part of the Scottsdale Public Library Memory Cafe Program Frank will provide a Health Rhythms Drum Circle designed for adults with Alzheimer’s and Dementia along with their caregivers at the Scottsdale Civic Center Library. A place to share rhythms\, stories and build a community space with an interactive social experience. \nWe hope you can join us. \nDrums will be provided\, you will only need to bring your enthusiasm. \nSe Habla Español
URL:http://azrhythmconnection.com/calendars/aarp-scottsdale-public-library-memory-cafe-drum-circle-130p-230p/
LOCATION:Scottsdale Civic Center Library\, 3737 N Drinkwater Blvd\, Scottsdale\, AZ\, 85251\, United States
ATTACH;FMTTYPE=image/png:http://azrhythmconnection.com/wp-content/uploads/2020/02/FF1D630F-8EFD-40B5-8C3E-13128540AB0E.png
END:VEVENT
BEGIN:VEVENT
DTSTART;TZID=America/Phoenix:20200313T174500
DTEND;TZID=America/Phoenix:20200313T194500
DTSTAMP:20260423T001035
CREATED:20200227T035137Z
LAST-MODIFIED:20200227T035137Z
UID:1047-1584121500-1584128700@azrhythmconnection.com
SUMMARY:West African Drum Class Scottsdale Airpark: 545P-745P
DESCRIPTION:A fun enjoyable community drum class.   A very collaborative experience with experienced and new drummers.  We all help each other learn. All levels welcome.
URL:http://azrhythmconnection.com/calendars/west-african-drum-class-scottsdale-airpark-545p-745p-22/
LOCATION:Crescent Moon Yoga and Healing Centetr\, 7825 E. Evans Rd. #600\, Scottsdale\, AZ\, 85258\, United States
ATTACH;FMTTYPE=image/png:http://azrhythmconnection.com/wp-content/uploads/2019/09/5D6765A9-B92B-497A-B37F-EF370C23194A.png
END:VEVENT
END:VCALENDAR