BEGIN:VCALENDAR
VERSION:2.0
PRODID:-//AZRC - ECPv5.6.0//NONSGML v1.0//EN
CALSCALE:GREGORIAN
METHOD:PUBLISH
X-WR-CALNAME:AZRC
X-ORIGINAL-URL:http://azrhythmconnection.com
X-WR-CALDESC:Events for AZRC
BEGIN:VTIMEZONE
TZID:America/Phoenix
BEGIN:STANDARD
TZOFFSETFROM:-0700
TZOFFSETTO:-0700
TZNAME:MST
DTSTART:20200101T000000
END:STANDARD
END:VTIMEZONE
BEGIN:VEVENT
DTSTART;TZID=America/Phoenix:20200131T174500
DTEND;TZID=America/Phoenix:20200131T194500
DTSTAMP:20260423T020244
CREATED:20191220T001133Z
LAST-MODIFIED:20191220T001133Z
UID:874-1580492700-1580499900@azrhythmconnection.com
SUMMARY:West African Drum Class-Scottsdale Airpark 545P-745P
DESCRIPTION:A fun enjoyable community drum class.   A very collaborative experience with experienced and new drummers.  We all help each other learn. All levels welcome. 7825 E Evans Rd #600\, Scottsdale\, AZ 85260
URL:http://azrhythmconnection.com/calendars/west-african-drum-class-scottsdale-airpark-545p-745p-18/
LOCATION:Crescent Moon Yoga and Healing Centetr\, 7825 E. Evans Rd. #600\, Scottsdale\, AZ\, 85258\, United States
ATTACH;FMTTYPE=image/png:http://azrhythmconnection.com/wp-content/uploads/2019/09/5D6765A9-B92B-497A-B37F-EF370C23194A.png
END:VEVENT
END:VCALENDAR