BEGIN:VCALENDAR
VERSION:2.0
PRODID:-//AZRC - ECPv5.6.0//NONSGML v1.0//EN
CALSCALE:GREGORIAN
METHOD:PUBLISH
X-WR-CALNAME:AZRC
X-ORIGINAL-URL:http://azrhythmconnection.com
X-WR-CALDESC:Events for AZRC
BEGIN:VTIMEZONE
TZID:America/Phoenix
BEGIN:STANDARD
TZOFFSETFROM:-0700
TZOFFSETTO:-0700
TZNAME:MST
DTSTART:20190101T000000
END:STANDARD
END:VTIMEZONE
BEGIN:VEVENT
DTSTART;TZID=America/Phoenix:20191214T130000
DTEND;TZID=America/Phoenix:20191214T150000
DTSTAMP:20260424T145354
CREATED:20191121T170018Z
LAST-MODIFIED:20191121T170018Z
UID:847-1576328400-1576335600@azrhythmconnection.com
SUMMARY:AARP Volunteer Celebration:  Prescott\, AZ
DESCRIPTION:Private Session to honor the AARP volunteers of Prescott\, Arizona.
URL:http://azrhythmconnection.com/calendars/aarp-volunteer-celebration-prescott-az/
ATTACH;FMTTYPE=image/png:http://azrhythmconnection.com/wp-content/uploads/2019/09/Logo.png
END:VEVENT
END:VCALENDAR